BEGIN:VCALENDAR
VERSION:2.0
PRODID:-//Tukios.com/
BEGIN:VEVENT
UID:d05bd2ee-4b03-47f3-9dbd-b9849a49a1ba@www.cityviewmortuary.com
DTSTAMP:20260422T014609Z
DTSTART:20260424T190000Z
DTEND:20260424T200000Z
SUMMARY:Memorial Service
DESCRIPTION:
URL:https://www.cityviewmortuary.com/obituaries/william-bill-rogers
LOCATION:William E. Christoffersen Salt Lake Veterans Home 700 Foothill 
	Blvd  Salt Lake City  84113
GEO:40.7543781;-111.837891
END:VEVENT
END:VCALENDAR